BEGIN:VCALENDAR
VERSION:2.0
PRODID:icalendar-ruby
CALSCALE:GREGORIAN
METHOD:PUBLISH
BEGIN:VEVENT
DTSTAMP:20260419T132006Z
UID:261-47787@springwood.church
DTSTART;VALUE=DATE:20260515
DTEND;VALUE=DATE:20260518
CLASS:PUBLIC
CREATED:20260419T203538
DESCRIPTION:
LAST-MODIFIED:20260419T203538
LOCATION:Novatel Sunshine Coast
SUMMARY:SQ SHE Conference
URL;VALUE=URI:https://www.springwood.church/events/sq-she-conference/2026-0
 5-15
ATTACH;FILENAME=653698777_935338319183680_7113227180313123481_n.jpg;FMTTYPE
 =image/jpeg:https://dq5pwpg1q8ru0.cloudfront.net/2026/04/19/00/45/52/419e0
 db5-2799-4b66-8cab-8ffb321a119e/653698777_935338319183680_7113227180313123
 481_n.jpg
END:VEVENT
END:VCALENDAR
