BEGIN:VCALENDAR
VERSION:2.0
PRODID:icalendar-ruby
CALSCALE:GREGORIAN
METHOD:PUBLISH
BEGIN:VEVENT
DTSTAMP:20260421T092234Z
UID:257-47777@springwood.church
DTSTART:20260418T010000Z
DTEND:20260418T021500Z
CLASS:PUBLIC
CREATED:20260415T075837
DESCRIPTION:
LAST-MODIFIED:20260415T075837
LOCATION:121 Barbarella Drive\,Springwood 4127 QLD
SUMMARY:LDC - Ray Moaga
URL;VALUE=URI:https://www.springwood.church/events/ldc-ray-moaga--257/2026-
 04-18
ATTACH;FILENAME=maxresdefault.jpg;FMTTYPE=image/jpeg:https://dq5pwpg1q8ru0.
 cloudfront.net/2026/04/14/21/58/36/9142070f-f253-48cd-a4fd-73a63bc84a74/ma
 xresdefault.jpg
END:VEVENT
END:VCALENDAR
