BEGIN:VCALENDAR
VERSION:2.0
PRODID:icalendar-ruby
CALSCALE:GREGORIAN
METHOD:PUBLISH
BEGIN:VEVENT
DTSTAMP:20260419T114504Z
UID:258-47783@springwood.church
DTSTART:20260509T010000Z
DTEND:20260509T021500Z
CLASS:PUBLIC
CREATED:20260419T103834
DESCRIPTION:
LAST-MODIFIED:20260419T103834
LOCATION:Springwood Adventist Church - LDC
SUMMARY:Darius Jankiewicz
URL;VALUE=URI:https://www.springwood.church/events/darius-jankiewicz/2026-0
 5-09
ATTACH;FILENAME=Dariusz-Jankiewicz-1.jpg;FMTTYPE=image/jpeg:https://dq5pwpg
 1q8ru0.cloudfront.net/2026/04/14/21/54/42/3fc85bc2-6ecb-4e56-ad5b-900b10b5
 46ed/Dariusz-Jankiewicz-1.jpg
END:VEVENT
END:VCALENDAR
