BEGIN:VCALENDAR
VERSION:2.0
PRODID:icalendar-ruby
CALSCALE:GREGORIAN
METHOD:PUBLISH
BEGIN:VEVENT
DTSTAMP:20260419T131927Z
UID:259-47784@springwood.church
DTSTART:20260516T080000Z
DTEND:20260516T110000Z
CLASS:PUBLIC
CREATED:20260419T103847
DESCRIPTION:
LAST-MODIFIED:20260419T103847
LOCATION:Springwood Adventist Church - LDC
SUMMARY:Church Social: Travelers Tales
URL;VALUE=URI:https://www.springwood.church/events/church-social-travelers-
 tales/2026-05-16
ATTACH;FILENAME=IMG_4855.jpg;FMTTYPE=image/jpeg:https://dq5pwpg1q8ru0.cloud
 front.net/2026/04/19/00/37/54/ecda9d84-ed21-442f-8f50-15766b2919e5/IMG_485
 5.jpg
END:VEVENT
END:VCALENDAR
