BEGIN:VCALENDAR
VERSION:2.0
PRODID:icalendar-ruby
CALSCALE:GREGORIAN
METHOD:PUBLISH
BEGIN:VEVENT
DTSTAMP:20260419T131635Z
UID:260-47785@springwood.church
DTSTART:20260606T090000Z
DTEND:20260606T100000Z
CLASS:PUBLIC
CREATED:20260419T104104
DESCRIPTION:
LAST-MODIFIED:20260419T104104
LOCATION:BAC Multi-Purpose Centre
SUMMARY:Church Social: Sports Games Night 
URL;VALUE=URI:https://www.springwood.church/events/church-social-sports-gam
 es-night/2026-06-06
ATTACH;FILENAME=IK_280325_0973.webp;FMTTYPE=image/webp:https://dq5pwpg1q8ru
 0.cloudfront.net/2026/04/19/00/41/03/b8085c86-71ed-45cf-a72e-fcd411754083/
 IK_280325_0973.webp
END:VEVENT
END:VCALENDAR
